BEGIN:VCALENDAR
VERSION:2.0
PRODID:-//Glenn-Colusa Irrigation District - ECPv6.15.20//NONSGML v1.0//EN
CALSCALE:GREGORIAN
METHOD:PUBLISH
X-WR-CALNAME:Glenn-Colusa Irrigation District
X-ORIGINAL-URL:https://www.gcid.net
X-WR-CALDESC:Events for Glenn-Colusa Irrigation District
REFRESH-INTERVAL;VALUE=DURATION:PT1H
X-Robots-Tag:noindex
X-PUBLISHED-TTL:PT1H
BEGIN:VTIMEZONE
TZID:America/Los_Angeles
BEGIN:DAYLIGHT
TZOFFSETFROM:-0800
TZOFFSETTO:-0700
TZNAME:PDT
DTSTART:20270314T100000
END:DAYLIGHT
BEGIN:STANDARD
TZOFFSETFROM:-0700
TZOFFSETTO:-0800
TZNAME:PST
DTSTART:20271107T090000
END:STANDARD
BEGIN:DAYLIGHT
TZOFFSETFROM:-0800
TZOFFSETTO:-0700
TZNAME:PDT
DTSTART:20280312T100000
END:DAYLIGHT
BEGIN:STANDARD
TZOFFSETFROM:-0700
TZOFFSETTO:-0800
TZNAME:PST
DTSTART:20281105T090000
END:STANDARD
BEGIN:DAYLIGHT
TZOFFSETFROM:-0800
TZOFFSETTO:-0700
TZNAME:PDT
DTSTART:20290311T100000
END:DAYLIGHT
BEGIN:STANDARD
TZOFFSETFROM:-0700
TZOFFSETTO:-0800
TZNAME:PST
DTSTART:20291104T090000
END:STANDARD
BEGIN:DAYLIGHT
TZOFFSETFROM:-0800
TZOFFSETTO:-0700
TZNAME:PDT
DTSTART:20300310T100000
END:DAYLIGHT
BEGIN:STANDARD
TZOFFSETFROM:-0700
TZOFFSETTO:-0800
TZNAME:PST
DTSTART:20301103T090000
END:STANDARD
END:VTIMEZONE
BEGIN:VEVENT
DTSTART;TZID=America/Los_Angeles:20280217T090000
DTEND;TZID=America/Los_Angeles:20280217T120000
DTSTAMP:20260421T021027
CREATED:20250408T190237Z
LAST-MODIFIED:20250408T212852Z
UID:10000159-1834390800-1834401600@www.gcid.net
SUMMARY:Board Meeting
DESCRIPTION:
URL:https://www.gcid.net/event/board-meeting-2/2028-02-17/
LOCATION:GCID Office\, 344 East Laurel\, Willows\, CA\, 95988\, United States
END:VEVENT
BEGIN:VEVENT
DTSTART;TZID=America/Los_Angeles:20280302T090000
DTEND;TZID=America/Los_Angeles:20280302T120000
DTSTAMP:20260421T021027
CREATED:20250408T185928Z
LAST-MODIFIED:20250408T214526Z
UID:10000039-1835600400-1835611200@www.gcid.net
SUMMARY:Board Meeting
DESCRIPTION:
URL:https://www.gcid.net/event/board-meeting/2028-03-02/
LOCATION:GCID Office\, 344 East Laurel\, Willows\, CA\, 95988\, United States
END:VEVENT
BEGIN:VEVENT
DTSTART;TZID=America/Los_Angeles:20280316T090000
DTEND;TZID=America/Los_Angeles:20280316T120000
DTSTAMP:20260421T021027
CREATED:20250408T190237Z
LAST-MODIFIED:20250408T212852Z
UID:10000160-1836810000-1836820800@www.gcid.net
SUMMARY:Board Meeting
DESCRIPTION:
URL:https://www.gcid.net/event/board-meeting-2/2028-03-16/
LOCATION:GCID Office\, 344 East Laurel\, Willows\, CA\, 95988\, United States
END:VEVENT
BEGIN:VEVENT
DTSTART;TZID=America/Los_Angeles:20280406T090000
DTEND;TZID=America/Los_Angeles:20280406T120000
DTSTAMP:20260421T021027
CREATED:20250408T185928Z
LAST-MODIFIED:20250408T214526Z
UID:10000040-1838624400-1838635200@www.gcid.net
SUMMARY:Board Meeting
DESCRIPTION:
URL:https://www.gcid.net/event/board-meeting/2028-04-06/
LOCATION:GCID Office\, 344 East Laurel\, Willows\, CA\, 95988\, United States
END:VEVENT
BEGIN:VEVENT
DTSTART;TZID=America/Los_Angeles:20280420T090000
DTEND;TZID=America/Los_Angeles:20280420T120000
DTSTAMP:20260421T021027
CREATED:20250408T190237Z
LAST-MODIFIED:20250408T212852Z
UID:10000161-1839834000-1839844800@www.gcid.net
SUMMARY:Board Meeting
DESCRIPTION:
URL:https://www.gcid.net/event/board-meeting-2/2028-04-20/
LOCATION:GCID Office\, 344 East Laurel\, Willows\, CA\, 95988\, United States
END:VEVENT
BEGIN:VEVENT
DTSTART;TZID=America/Los_Angeles:20280504T090000
DTEND;TZID=America/Los_Angeles:20280504T120000
DTSTAMP:20260421T021027
CREATED:20250408T185928Z
LAST-MODIFIED:20250408T214526Z
UID:10000041-1841043600-1841054400@www.gcid.net
SUMMARY:Board Meeting
DESCRIPTION:
URL:https://www.gcid.net/event/board-meeting/2028-05-04/
LOCATION:GCID Office\, 344 East Laurel\, Willows\, CA\, 95988\, United States
END:VEVENT
BEGIN:VEVENT
DTSTART;TZID=America/Los_Angeles:20280518T090000
DTEND;TZID=America/Los_Angeles:20280518T120000
DTSTAMP:20260421T021027
CREATED:20250408T190237Z
LAST-MODIFIED:20250408T212852Z
UID:10000162-1842253200-1842264000@www.gcid.net
SUMMARY:Board Meeting
DESCRIPTION:
URL:https://www.gcid.net/event/board-meeting-2/2028-05-18/
LOCATION:GCID Office\, 344 East Laurel\, Willows\, CA\, 95988\, United States
END:VEVENT
BEGIN:VEVENT
DTSTART;TZID=America/Los_Angeles:20280601T090000
DTEND;TZID=America/Los_Angeles:20280601T120000
DTSTAMP:20260421T021027
CREATED:20250408T185928Z
LAST-MODIFIED:20250408T214526Z
UID:10000042-1843462800-1843473600@www.gcid.net
SUMMARY:Board Meeting
DESCRIPTION:
URL:https://www.gcid.net/event/board-meeting/2028-06-01/
LOCATION:GCID Office\, 344 East Laurel\, Willows\, CA\, 95988\, United States
END:VEVENT
BEGIN:VEVENT
DTSTART;TZID=America/Los_Angeles:20280615T090000
DTEND;TZID=America/Los_Angeles:20280615T120000
DTSTAMP:20260421T021027
CREATED:20250408T190237Z
LAST-MODIFIED:20250408T212852Z
UID:10000163-1844672400-1844683200@www.gcid.net
SUMMARY:Board Meeting
DESCRIPTION:
URL:https://www.gcid.net/event/board-meeting-2/2028-06-15/
LOCATION:GCID Office\, 344 East Laurel\, Willows\, CA\, 95988\, United States
END:VEVENT
BEGIN:VEVENT
DTSTART;TZID=America/Los_Angeles:20280706T090000
DTEND;TZID=America/Los_Angeles:20280706T120000
DTSTAMP:20260421T021027
CREATED:20250408T185928Z
LAST-MODIFIED:20250408T214526Z
UID:10000043-1846486800-1846497600@www.gcid.net
SUMMARY:Board Meeting
DESCRIPTION:
URL:https://www.gcid.net/event/board-meeting/2028-07-06/
LOCATION:GCID Office\, 344 East Laurel\, Willows\, CA\, 95988\, United States
END:VEVENT
BEGIN:VEVENT
DTSTART;TZID=America/Los_Angeles:20280720T090000
DTEND;TZID=America/Los_Angeles:20280720T120000
DTSTAMP:20260421T021027
CREATED:20250408T190237Z
LAST-MODIFIED:20250408T212852Z
UID:10000164-1847696400-1847707200@www.gcid.net
SUMMARY:Board Meeting
DESCRIPTION:
URL:https://www.gcid.net/event/board-meeting-2/2028-07-20/
LOCATION:GCID Office\, 344 East Laurel\, Willows\, CA\, 95988\, United States
END:VEVENT
BEGIN:VEVENT
DTSTART;TZID=America/Los_Angeles:20280803T090000
DTEND;TZID=America/Los_Angeles:20280803T120000
DTSTAMP:20260421T021027
CREATED:20250408T185928Z
LAST-MODIFIED:20250408T214526Z
UID:10000044-1848906000-1848916800@www.gcid.net
SUMMARY:Board Meeting
DESCRIPTION:
URL:https://www.gcid.net/event/board-meeting/2028-08-03/
LOCATION:GCID Office\, 344 East Laurel\, Willows\, CA\, 95988\, United States
END:VEVENT
BEGIN:VEVENT
DTSTART;TZID=America/Los_Angeles:20280817T090000
DTEND;TZID=America/Los_Angeles:20280817T120000
DTSTAMP:20260421T021027
CREATED:20250408T190237Z
LAST-MODIFIED:20250408T212852Z
UID:10000165-1850115600-1850126400@www.gcid.net
SUMMARY:Board Meeting
DESCRIPTION:
URL:https://www.gcid.net/event/board-meeting-2/2028-08-17/
LOCATION:GCID Office\, 344 East Laurel\, Willows\, CA\, 95988\, United States
END:VEVENT
BEGIN:VEVENT
DTSTART;TZID=America/Los_Angeles:20280907T090000
DTEND;TZID=America/Los_Angeles:20280907T120000
DTSTAMP:20260421T021027
CREATED:20250408T185928Z
LAST-MODIFIED:20250408T214526Z
UID:10000045-1851930000-1851940800@www.gcid.net
SUMMARY:Board Meeting
DESCRIPTION:
URL:https://www.gcid.net/event/board-meeting/2028-09-07/
LOCATION:GCID Office\, 344 East Laurel\, Willows\, CA\, 95988\, United States
END:VEVENT
BEGIN:VEVENT
DTSTART;TZID=America/Los_Angeles:20280921T090000
DTEND;TZID=America/Los_Angeles:20280921T120000
DTSTAMP:20260421T021027
CREATED:20250408T190237Z
LAST-MODIFIED:20250408T212852Z
UID:10000166-1853139600-1853150400@www.gcid.net
SUMMARY:Board Meeting
DESCRIPTION:
URL:https://www.gcid.net/event/board-meeting-2/2028-09-21/
LOCATION:GCID Office\, 344 East Laurel\, Willows\, CA\, 95988\, United States
END:VEVENT
BEGIN:VEVENT
DTSTART;TZID=America/Los_Angeles:20281005T090000
DTEND;TZID=America/Los_Angeles:20281005T120000
DTSTAMP:20260421T021027
CREATED:20250408T185928Z
LAST-MODIFIED:20250408T214526Z
UID:10000046-1854349200-1854360000@www.gcid.net
SUMMARY:Board Meeting
DESCRIPTION:
URL:https://www.gcid.net/event/board-meeting/2028-10-05/
LOCATION:GCID Office\, 344 East Laurel\, Willows\, CA\, 95988\, United States
END:VEVENT
BEGIN:VEVENT
DTSTART;TZID=America/Los_Angeles:20281019T090000
DTEND;TZID=America/Los_Angeles:20281019T120000
DTSTAMP:20260421T021027
CREATED:20250408T190237Z
LAST-MODIFIED:20250408T212852Z
UID:10000167-1855558800-1855569600@www.gcid.net
SUMMARY:Board Meeting
DESCRIPTION:
URL:https://www.gcid.net/event/board-meeting-2/2028-10-19/
LOCATION:GCID Office\, 344 East Laurel\, Willows\, CA\, 95988\, United States
END:VEVENT
BEGIN:VEVENT
DTSTART;TZID=America/Los_Angeles:20281102T090000
DTEND;TZID=America/Los_Angeles:20281102T120000
DTSTAMP:20260421T021027
CREATED:20250408T185928Z
LAST-MODIFIED:20250408T214526Z
UID:10000047-1856768400-1856779200@www.gcid.net
SUMMARY:Board Meeting
DESCRIPTION:
URL:https://www.gcid.net/event/board-meeting/2028-11-02/
LOCATION:GCID Office\, 344 East Laurel\, Willows\, CA\, 95988\, United States
END:VEVENT
BEGIN:VEVENT
DTSTART;TZID=America/Los_Angeles:20281116T090000
DTEND;TZID=America/Los_Angeles:20281116T120000
DTSTAMP:20260421T021027
CREATED:20250408T190237Z
LAST-MODIFIED:20250408T212852Z
UID:10000168-1857978000-1857988800@www.gcid.net
SUMMARY:Board Meeting
DESCRIPTION:
URL:https://www.gcid.net/event/board-meeting-2/2028-11-16/
LOCATION:GCID Office\, 344 East Laurel\, Willows\, CA\, 95988\, United States
END:VEVENT
BEGIN:VEVENT
DTSTART;TZID=America/Los_Angeles:20281207T090000
DTEND;TZID=America/Los_Angeles:20281207T120000
DTSTAMP:20260421T021027
CREATED:20250408T185928Z
LAST-MODIFIED:20250408T214526Z
UID:10000048-1859792400-1859803200@www.gcid.net
SUMMARY:Board Meeting
DESCRIPTION:
URL:https://www.gcid.net/event/board-meeting/2028-12-07/
LOCATION:GCID Office\, 344 East Laurel\, Willows\, CA\, 95988\, United States
END:VEVENT
BEGIN:VEVENT
DTSTART;TZID=America/Los_Angeles:20281221T090000
DTEND;TZID=America/Los_Angeles:20281221T120000
DTSTAMP:20260421T021027
CREATED:20250408T190237Z
LAST-MODIFIED:20250408T212852Z
UID:10000169-1861002000-1861012800@www.gcid.net
SUMMARY:Board Meeting
DESCRIPTION:
URL:https://www.gcid.net/event/board-meeting-2/2028-12-21/
LOCATION:GCID Office\, 344 East Laurel\, Willows\, CA\, 95988\, United States
END:VEVENT
BEGIN:VEVENT
DTSTART;TZID=America/Los_Angeles:20290104T090000
DTEND;TZID=America/Los_Angeles:20290104T120000
DTSTAMP:20260421T021027
CREATED:20250408T185928Z
LAST-MODIFIED:20250408T214526Z
UID:10000049-1862211600-1862222400@www.gcid.net
SUMMARY:Board Meeting
DESCRIPTION:
URL:https://www.gcid.net/event/board-meeting/2029-01-04/
LOCATION:GCID Office\, 344 East Laurel\, Willows\, CA\, 95988\, United States
END:VEVENT
BEGIN:VEVENT
DTSTART;TZID=America/Los_Angeles:20290118T090000
DTEND;TZID=America/Los_Angeles:20290118T120000
DTSTAMP:20260421T021027
CREATED:20250408T190237Z
LAST-MODIFIED:20250408T212852Z
UID:10000170-1863421200-1863432000@www.gcid.net
SUMMARY:Board Meeting
DESCRIPTION:
URL:https://www.gcid.net/event/board-meeting-2/2029-01-18/
LOCATION:GCID Office\, 344 East Laurel\, Willows\, CA\, 95988\, United States
END:VEVENT
BEGIN:VEVENT
DTSTART;TZID=America/Los_Angeles:20290201T090000
DTEND;TZID=America/Los_Angeles:20290201T120000
DTSTAMP:20260421T021027
CREATED:20250408T185928Z
LAST-MODIFIED:20250408T214526Z
UID:10000050-1864630800-1864641600@www.gcid.net
SUMMARY:Board Meeting
DESCRIPTION:
URL:https://www.gcid.net/event/board-meeting/2029-02-01/
LOCATION:GCID Office\, 344 East Laurel\, Willows\, CA\, 95988\, United States
END:VEVENT
BEGIN:VEVENT
DTSTART;TZID=America/Los_Angeles:20290215T090000
DTEND;TZID=America/Los_Angeles:20290215T120000
DTSTAMP:20260421T021027
CREATED:20250408T190237Z
LAST-MODIFIED:20250408T212852Z
UID:10000171-1865840400-1865851200@www.gcid.net
SUMMARY:Board Meeting
DESCRIPTION:
URL:https://www.gcid.net/event/board-meeting-2/2029-02-15/
LOCATION:GCID Office\, 344 East Laurel\, Willows\, CA\, 95988\, United States
END:VEVENT
BEGIN:VEVENT
DTSTART;TZID=America/Los_Angeles:20290301T090000
DTEND;TZID=America/Los_Angeles:20290301T120000
DTSTAMP:20260421T021027
CREATED:20250408T185928Z
LAST-MODIFIED:20250408T214526Z
UID:10000051-1867050000-1867060800@www.gcid.net
SUMMARY:Board Meeting
DESCRIPTION:
URL:https://www.gcid.net/event/board-meeting/2029-03-01/
LOCATION:GCID Office\, 344 East Laurel\, Willows\, CA\, 95988\, United States
END:VEVENT
BEGIN:VEVENT
DTSTART;TZID=America/Los_Angeles:20290315T090000
DTEND;TZID=America/Los_Angeles:20290315T120000
DTSTAMP:20260421T021027
CREATED:20250408T190237Z
LAST-MODIFIED:20250408T212852Z
UID:10000172-1868259600-1868270400@www.gcid.net
SUMMARY:Board Meeting
DESCRIPTION:
URL:https://www.gcid.net/event/board-meeting-2/2029-03-15/
LOCATION:GCID Office\, 344 East Laurel\, Willows\, CA\, 95988\, United States
END:VEVENT
BEGIN:VEVENT
DTSTART;TZID=America/Los_Angeles:20290405T090000
DTEND;TZID=America/Los_Angeles:20290405T120000
DTSTAMP:20260421T021027
CREATED:20250408T185928Z
LAST-MODIFIED:20250408T214526Z
UID:10000052-1870074000-1870084800@www.gcid.net
SUMMARY:Board Meeting
DESCRIPTION:
URL:https://www.gcid.net/event/board-meeting/2029-04-05/
LOCATION:GCID Office\, 344 East Laurel\, Willows\, CA\, 95988\, United States
END:VEVENT
BEGIN:VEVENT
DTSTART;TZID=America/Los_Angeles:20290419T090000
DTEND;TZID=America/Los_Angeles:20290419T120000
DTSTAMP:20260421T021027
CREATED:20250408T190237Z
LAST-MODIFIED:20250408T212852Z
UID:10000173-1871283600-1871294400@www.gcid.net
SUMMARY:Board Meeting
DESCRIPTION:
URL:https://www.gcid.net/event/board-meeting-2/2029-04-19/
LOCATION:GCID Office\, 344 East Laurel\, Willows\, CA\, 95988\, United States
END:VEVENT
BEGIN:VEVENT
DTSTART;TZID=America/Los_Angeles:20290503T090000
DTEND;TZID=America/Los_Angeles:20290503T120000
DTSTAMP:20260421T021027
CREATED:20250408T185928Z
LAST-MODIFIED:20250408T214526Z
UID:10000053-1872493200-1872504000@www.gcid.net
SUMMARY:Board Meeting
DESCRIPTION:
URL:https://www.gcid.net/event/board-meeting/2029-05-03/
LOCATION:GCID Office\, 344 East Laurel\, Willows\, CA\, 95988\, United States
END:VEVENT
END:VCALENDAR